BEGIN:VCALENDAR

VERSION:2.0

PRODID:-//hacksw/handcal//NONSGML v1.0//EN

BEGIN:VEVENT

UID:0d568477d081b234d8e2a0781242faff

DTSTAMP:20260420T143752Z

DTSTART:20260426T090000

DTEND:20260426T093000

SUMMARY:L40343985 - 55 Old York Road, GREENMOUNT WA 6056

LOCATION:55 Old York Road, GREENMOUNT WA 6056

END:VEVENT

END:VCALENDAR