BEGIN:VCALENDAR

VERSION:2.0

PRODID:-//hacksw/handcal//NONSGML v1.0//EN

BEGIN:VEVENT

UID:33aae27a1832bb395c6635e43c6388d6

DTSTAMP:20260423T150311Z

DTSTART:20260425T110000

DTEND:20260425T113000

SUMMARY:L40421638 - 516B Morley Drive, MORLEY WA 6062

LOCATION:516B Morley Drive, MORLEY WA 6062

END:VEVENT

END:VCALENDAR