BEGIN:VCALENDAR

VERSION:2.0

PRODID:-//hacksw/handcal//NONSGML v1.0//EN

BEGIN:VEVENT

UID:b4f9277aabf0eac5665fb4ad777ac636

DTSTAMP:20260422T151307Z

DTSTART:20260425T130000

DTEND:20260425T133000

SUMMARY:L40346604 - 28 Smitherson Street, NORANDA WA 6062

LOCATION:28 Smitherson Street, NORANDA WA 6062

END:VEVENT

END:VCALENDAR