BEGIN:VCALENDAR

VERSION:2.0

PRODID:-//hacksw/handcal//NONSGML v1.0//EN

BEGIN:VEVENT

UID:099654252faf948740d094865326b161

DTSTAMP:20260421T135156Z

DTSTART:20260425T120000

DTEND:20260425T123000

SUMMARY:L39331740 - 11 Hardwick Street, MORLEY WA 6062

LOCATION:11 Hardwick Street, MORLEY WA 6062

END:VEVENT

END:VCALENDAR